BEGIN:VCALENDAR
VERSION:2.0
PRODID:-//AudioTheme 1.8.0
BEGIN:VEVENT
UID:http://cgibbsreview.com/cb/?post_type=audiotheme_gig&#038;p=6602
URL:http://cgibbsreview.com/cb/shows/2024-04-27/
DTSTART;TZID=GMT:20240427T170000
SUMMARY:Private Event / C. Gibbs andFull Band  w Matt Lynott (drums) , Jeremey Cooke( guitar vioilin), and Jules Whelpton (bass)
LOCATION:Private Event
END:VEVENT
END:VCALENDAR