BEGIN:VCALENDAR
VERSION:2.0
PRODID:-//AudioTheme 1.8.0
BEGIN:VEVENT
UID:http://cgibbsreview.com/cb/?post_type=audiotheme_gig&#038;p=1503
URL:http://cgibbsreview.com/cb/shows/blind-lady-alehouse/
DTSTART;TZID=GMT:20230126T000000
SUMMARY:Blind Lady Alehouse
DESCRIPTION:C. Gibbs as a duo with the incredible Jeremey Cooke playing violin and accordian.  
LOCATION:Blind Lady Alehouse
END:VEVENT
END:VCALENDAR