BEGIN:VCALENDAR
VERSION:2.0
PRODID:-//AudioTheme 1.8.0
BEGIN:VEVENT
UID:http://cgibbsreview.com/cb/?post_type=audiotheme_gig&#038;p=2059
URL:http://cgibbsreview.com/cb/shows/pour-house-oceanside/
DTSTART;TZID=GMT:20230414T000000
SUMMARY:Pour House, Oceanside
DESCRIPTION:Full Band C. Gibbs  Show  On bill: The Oxen  Tristan Lake Leabu
LOCATION:Pour House
END:VEVENT
END:VCALENDAR